BEGIN:VCALENDAR
VERSION:2.0
PRODID:spatie/icalendar-generator
DESCRIPTION:Eventi da CEP HUMAN RESOURCES
X-WR-CALDESC:Eventi da CEP HUMAN RESOURCES
REFRESH-INTERVAL;VALUE=DURATION:PT1440M
X-PUBLISHED-TTL:PT1440M
BEGIN:VTIMEZONE
TZID:Europe/Rome
BEGIN:DAYLIGHT
DTSTART:20260329T020000Z
TZOFFSETFROM:+0100
TZOFFSETTO:+0200
END:DAYLIGHT
BEGIN:STANDARD
DTSTART:20261025T030000Z
TZOFFSETFROM:+0200
TZOFFSETTO:+0100
END:STANDARD
BEGIN:DAYLIGHT
DTSTART:20270328T020000Z
TZOFFSETFROM:+0100
TZOFFSETTO:+0200
END:DAYLIGHT
END:VTIMEZONE
BEGIN:VTIMEZONE
TZID:UTC
BEGIN:STANDARD
DTSTART:20250725T213455Z
TZOFFSETFROM:+0000
TZOFFSETTO:+0000
END:STANDARD
END:VTIMEZONE
BEGIN:VEVENT
UID:50-26
DTSTAMP:20260421T213455Z
SUMMARY:Ognissanti
LOCATION:
ORGANIZER;CN=Rosanna Villani:MAILTO:rosanna.villani@bresciapaghe.it
RRULE:FREQ=YEARLY;BYMONTH=11;BYDAY=01;UNTIL=20281101T000000Z
DTSTART;TZID=Europe/Rome;VALUE=DATE:20261101
DTEND;TZID=Europe/Rome;VALUE=DATE:20261102
X-ALT-DESC;FMTTYPE=TEXT/HTML:<p>Ognissanti</p>\n
CATEGORIES:Festività
URL;VALUE=URI:https://cephr.it/eventi/ognissanti/?mc_id=50
METHOD:PUBLISH
END:VEVENT
END:VCALENDAR