BEGIN:VCALENDAR
VERSION:2.0
PRODID:spatie/icalendar-generator
DESCRIPTION:Eventi da CEP HUMAN RESOURCES
X-WR-CALDESC:Eventi da CEP HUMAN RESOURCES
REFRESH-INTERVAL;VALUE=DURATION:PT1440M
X-PUBLISHED-TTL:PT1440M
BEGIN:VTIMEZONE
TZID:Europe/Rome
BEGIN:STANDARD
DTSTART:20251026T030000Z
TZOFFSETFROM:+0200
TZOFFSETTO:+0100
END:STANDARD
BEGIN:DAYLIGHT
DTSTART:20260329T020000Z
TZOFFSETFROM:+0100
TZOFFSETTO:+0200
END:DAYLIGHT
END:VTIMEZONE
BEGIN:VTIMEZONE
TZID:UTC
BEGIN:STANDARD
DTSTART:20250726T070601Z
TZOFFSETFROM:+0000
TZOFFSETTO:+0000
END:STANDARD
END:VTIMEZONE
BEGIN:VEVENT
UID:396-295
DTSTAMP:20260422T070601Z
SUMMARY:Invio Correttivo CU 2026 Ordinaria
LOCATION:
ORGANIZER;CN=Rosanna Villani:MAILTO:rosanna.villani@bresciapaghe.it
DTSTART;TZID=Europe/Rome;VALUE=DATE:20260321
DTEND;TZID=Europe/Rome;VALUE=DATE:20260322
X-ALT-DESC;FMTTYPE=TEXT/HTML:<p>A seguito di errato invio delle certificazi
 oni\, possibile trasmissione delle CU correttive\, senza incorrere in sanz
 ioni</p>\n
CATEGORIES:Scadenze
URL;VALUE=URI:https://cephr.it/eventi/invio-correttivo-cu-2026-ordinaria/
METHOD:PUBLISH
END:VEVENT
END:VCALENDAR