BEGIN:VCALENDAR
VERSION:2.0
PRODID:spatie/icalendar-generator
DESCRIPTION:Eventi da CEP HUMAN RESOURCES
X-WR-CALDESC:Eventi da CEP HUMAN RESOURCES
REFRESH-INTERVAL;VALUE=DURATION:PT1440M
X-PUBLISHED-TTL:PT1440M
BEGIN:VTIMEZONE
TZID:Europe/Rome
BEGIN:DAYLIGHT
DTSTART:20260329T020000Z
TZOFFSETFROM:+0100
TZOFFSETTO:+0200
END:DAYLIGHT
BEGIN:STANDARD
DTSTART:20261025T030000Z
TZOFFSETFROM:+0200
TZOFFSETTO:+0100
END:STANDARD
BEGIN:DAYLIGHT
DTSTART:20270328T020000Z
TZOFFSETFROM:+0100
TZOFFSETTO:+0200
END:DAYLIGHT
END:VTIMEZONE
BEGIN:VTIMEZONE
TZID:UTC
BEGIN:STANDARD
DTSTART:20250724T083048Z
TZOFFSETFROM:+0000
TZOFFSETTO:+0000
END:STANDARD
END:VTIMEZONE
BEGIN:VEVENT
UID:337-268
DTSTAMP:20260420T083048Z
SUMMARY:Contributi Previdenziali
LOCATION:
ORGANIZER;CN=Rosanna Villani:MAILTO:rosanna.villani@bresciapaghe.it
DTSTART;TZID=Europe/Rome;VALUE=DATE:20261016
DTEND;TZID=Europe/Rome;VALUE=DATE:20261017
X-ALT-DESC;FMTTYPE=TEXT/HTML:<p>Versamento contributi relativi al mese di s
 ettembre 2026:</p>\n<p>- INPS: Lavoratori dipendenti<br />\n- INPS -&amp;gt\; 
 Gestione ex ENPALS: Lavoratori dello spettacolo<br />\n- INPS -&amp;gt\; Gesti
 one ex INPGI: Giornalisti Professionisti<br />\n- Gestione Separata INPS: 
 committenti</p>\n
CATEGORIES:Scadenze
URL;VALUE=URI:https://cephr.it/eventi/contributi-previdenziali-20/
METHOD:PUBLISH
END:VEVENT
END:VCALENDAR