BEGIN:VCALENDAR
VERSION:2.0
PRODID:spatie/icalendar-generator
DESCRIPTION:Eventi da CEP HUMAN RESOURCES
X-WR-CALDESC:Eventi da CEP HUMAN RESOURCES
REFRESH-INTERVAL;VALUE=DURATION:PT1440M
X-PUBLISHED-TTL:PT1440M
BEGIN:VTIMEZONE
TZID:Europe/Rome
BEGIN:DAYLIGHT
DTSTART:20250330T020000Z
TZOFFSETFROM:+0100
TZOFFSETTO:+0200
END:DAYLIGHT
BEGIN:STANDARD
DTSTART:20251026T030000Z
TZOFFSETFROM:+0200
TZOFFSETTO:+0100
END:STANDARD
BEGIN:DAYLIGHT
DTSTART:20260329T020000Z
TZOFFSETFROM:+0100
TZOFFSETTO:+0200
END:DAYLIGHT
END:VTIMEZONE
BEGIN:VTIMEZONE
TZID:UTC
BEGIN:STANDARD
DTSTART:20250725T231841Z
TZOFFSETFROM:+0000
TZOFFSETTO:+0000
END:STANDARD
END:VTIMEZONE
BEGIN:VEVENT
UID:212-160
DTSTAMP:20260421T231841Z
SUMMARY:Mod. 730 - Integrativo
LOCATION:
ORGANIZER;CN=Rosanna Villani:MAILTO:rosanna.villani@bresciapaghe.it
DTSTART;TZID=Europe/Rome;VALUE=DATE:20251110
DTEND;TZID=Europe/Rome;VALUE=DATE:20251111
X-ALT-DESC;FMTTYPE=TEXT/HTML:<p>CAF e professionisti abilitati trasmettono 
 in via telematica all'Agenzia delle Entrate e consegnano ai dipendenti/pen
 sionati Modd. 730 e 730-3 integrativi</p>\n
CATEGORIES:Scadenze
URL;VALUE=URI:https://cephr.it/eventi/mod-730-integrativo-2/
METHOD:PUBLISH
END:VEVENT
END:VCALENDAR