BEGIN:VCALENDAR
VERSION:2.0
PRODID:spatie/icalendar-generator
DESCRIPTION:Eventi da CEP HUMAN RESOURCES
X-WR-CALDESC:Eventi da CEP HUMAN RESOURCES
REFRESH-INTERVAL;VALUE=DURATION:PT1440M
X-PUBLISHED-TTL:PT1440M
BEGIN:VTIMEZONE
TZID:Europe/Rome
BEGIN:STANDARD
DTSTART:20241027T030000Z
TZOFFSETFROM:+0200
TZOFFSETTO:+0100
END:STANDARD
BEGIN:DAYLIGHT
DTSTART:20250330T020000Z
TZOFFSETFROM:+0100
TZOFFSETTO:+0200
END:DAYLIGHT
BEGIN:STANDARD
DTSTART:20251026T030000Z
TZOFFSETFROM:+0200
TZOFFSETTO:+0100
END:STANDARD
END:VTIMEZONE
BEGIN:VTIMEZONE
TZID:UTC
BEGIN:STANDARD
DTSTART:20250724T055223Z
TZOFFSETFROM:+0000
TZOFFSETTO:+0000
END:STANDARD
END:VTIMEZONE
BEGIN:VEVENT
UID:156-109
DTSTAMP:20260420T055223Z
SUMMARY:Mod. 730 - Soggetti privi di Sostituto
LOCATION:
ORGANIZER;CN=Rosanna Villani:MAILTO:rosanna.villani@bresciapaghe.it
DTSTART;TZID=Europe/Rome;VALUE=DATE:20250630
DTEND;TZID=Europe/Rome;VALUE=DATE:20250701
X-ALT-DESC;FMTTYPE=TEXT/HTML:<p>Versamento delle imposte risultanti dal Mod
 . 730 relativo a soggetti privi di sostituto d'imposta e a soggetti decedu
 ti entro il 28 febbraio 2025</p>\n
CATEGORIES:Scadenze
URL;VALUE=URI:https://cephr.it/eventi/mod-730-soggetti-privi-di-sostituto/
METHOD:PUBLISH
END:VEVENT
END:VCALENDAR