BEGIN:VCALENDAR
VERSION:2.0
PRODID:spatie/icalendar-generator
DESCRIPTION:Eventi da CEP HUMAN RESOURCES
X-WR-CALDESC:Eventi da CEP HUMAN RESOURCES
REFRESH-INTERVAL;VALUE=DURATION:PT1440M
X-PUBLISHED-TTL:PT1440M
BEGIN:VTIMEZONE
TZID:Europe/Rome
BEGIN:STANDARD
DTSTART:20241027T030000Z
TZOFFSETFROM:+0200
TZOFFSETTO:+0100
END:STANDARD
BEGIN:DAYLIGHT
DTSTART:20250330T020000Z
TZOFFSETFROM:+0100
TZOFFSETTO:+0200
END:DAYLIGHT
BEGIN:STANDARD
DTSTART:20251026T030000Z
TZOFFSETFROM:+0200
TZOFFSETTO:+0100
END:STANDARD
END:VTIMEZONE
BEGIN:VTIMEZONE
TZID:UTC
BEGIN:STANDARD
DTSTART:20250725T212705Z
TZOFFSETFROM:+0000
TZOFFSETTO:+0000
END:STANDARD
END:VTIMEZONE
BEGIN:VEVENT
UID:155-108
DTSTAMP:20260421T212705Z
SUMMARY:Mod. 730
LOCATION:
ORGANIZER;CN=Rosanna Villani:MAILTO:rosanna.villani@bresciapaghe.it
DTSTART;TZID=Europe/Rome;VALUE=DATE:20250630
DTEND;TZID=Europe/Rome;VALUE=DATE:20250701
X-ALT-DESC;FMTTYPE=TEXT/HTML:<p>I datori di lavoro e gli enti pensionistici
  che prestano assistenza fiscale diretta\, i CAF e i professionisti abilit
 ati\, per le dichiarazioni presentate da parte dei contribuenti dal 1 giun
 go al 20 giugno:</p>\n<p>- Consegnano al dipendente/pensionato i Modd. 730
  e 730-3 elaborati<br />\n- Inviano telematicamente all'Agenzia delle Entr
 ate i Modd. 730\, 730-1\, 730-3 e 730-4</p>\n
CATEGORIES:Scadenze
URL;VALUE=URI:https://cephr.it/eventi/mod-730-2/
METHOD:PUBLISH
END:VEVENT
END:VCALENDAR