BEGIN:VCALENDAR
VERSION:2.0
PRODID:spatie/icalendar-generator
DESCRIPTION:Eventi da CEP HUMAN RESOURCES
X-WR-CALDESC:Eventi da CEP HUMAN RESOURCES
REFRESH-INTERVAL;VALUE=DURATION:PT1440M
X-PUBLISHED-TTL:PT1440M
BEGIN:VTIMEZONE
TZID:Europe/Rome
BEGIN:STANDARD
DTSTART:20271031T030000Z
TZOFFSETFROM:+0200
TZOFFSETTO:+0100
END:STANDARD
BEGIN:DAYLIGHT
DTSTART:20280326T020000Z
TZOFFSETFROM:+0100
TZOFFSETTO:+0200
END:DAYLIGHT
END:VTIMEZONE
BEGIN:VTIMEZONE
TZID:UTC
BEGIN:STANDARD
DTSTART:20250726T024423Z
TZOFFSETFROM:+0000
TZOFFSETTO:+0000
END:STANDARD
END:VTIMEZONE
BEGIN:VEVENT
UID:75-31
DTSTAMP:20260422T024423Z
SUMMARY:Patrono CepHR
LOCATION:
ORGANIZER;CN=Rosanna Villani:MAILTO:rosanna.villani@bresciapaghe.it
RRULE:FREQ=YEARLY;BYMONTH=12;BYDAY=24;UNTIL=20281224T000000Z
DTSTART;TZID=Europe/Rome;VALUE=DATE:20271224
DTEND;TZID=Europe/Rome;VALUE=DATE:20271225
X-ALT-DESC;FMTTYPE=TEXT/HTML:<p>Patrono CepHR</p>\n
CATEGORIES:Festività
URL;VALUE=URI:https://cephr.it/eventi/patrono-cephr/?mc_id=75
METHOD:PUBLISH
END:VEVENT
END:VCALENDAR