BEGIN:VCALENDAR
VERSION:2.0
PRODID:spatie/icalendar-generator
DESCRIPTION:Eventi da CEP HUMAN RESOURCES
X-WR-CALDESC:Eventi da CEP HUMAN RESOURCES
REFRESH-INTERVAL;VALUE=DURATION:PT1440M
X-PUBLISHED-TTL:PT1440M
BEGIN:VTIMEZONE
TZID:Europe/Rome
BEGIN:STANDARD
DTSTART:20271031T030000Z
TZOFFSETFROM:+0200
TZOFFSETTO:+0100
END:STANDARD
BEGIN:DAYLIGHT
DTSTART:20280326T020000Z
TZOFFSETFROM:+0100
TZOFFSETTO:+0200
END:DAYLIGHT
END:VTIMEZONE
BEGIN:VTIMEZONE
TZID:UTC
BEGIN:STANDARD
DTSTART:20250726T013016Z
TZOFFSETFROM:+0000
TZOFFSETTO:+0000
END:STANDARD
END:VTIMEZONE
BEGIN:VEVENT
UID:70-30
DTSTAMP:20260422T013016Z
SUMMARY:Santo Stefano
LOCATION:
ORGANIZER;CN=Rosanna Villani:MAILTO:rosanna.villani@bresciapaghe.it
RRULE:FREQ=YEARLY;BYMONTH=12;BYDAY=26;UNTIL=20281226T000000Z
DTSTART;TZID=Europe/Rome;VALUE=DATE:20271226
DTEND;TZID=Europe/Rome;VALUE=DATE:20271227
X-ALT-DESC;FMTTYPE=TEXT/HTML:<p>Santo Stefano</p>\n
CATEGORIES:Festività
URL;VALUE=URI:https://cephr.it/eventi/santo-stefano/?mc_id=70
METHOD:PUBLISH
END:VEVENT
END:VCALENDAR