BEGIN:VCALENDAR
VERSION:2.0
PRODID:spatie/icalendar-generator
DESCRIPTION:Eventi da CEP HUMAN RESOURCES
X-WR-CALDESC:Eventi da CEP HUMAN RESOURCES
REFRESH-INTERVAL;VALUE=DURATION:PT1440M
X-PUBLISHED-TTL:PT1440M
BEGIN:VTIMEZONE
TZID:Europe/Rome
BEGIN:STANDARD
DTSTART:20261025T030000Z
TZOFFSETFROM:+0200
TZOFFSETTO:+0100
END:STANDARD
BEGIN:DAYLIGHT
DTSTART:20270328T020000Z
TZOFFSETFROM:+0100
TZOFFSETTO:+0200
END:DAYLIGHT
END:VTIMEZONE
BEGIN:VTIMEZONE
TZID:UTC
BEGIN:STANDARD
DTSTART:20250726T015150Z
TZOFFSETFROM:+0000
TZOFFSETTO:+0000
END:STANDARD
END:VTIMEZONE
BEGIN:VEVENT
UID:60-29
DTSTAMP:20260422T015150Z
SUMMARY:Natale
LOCATION:
ORGANIZER;CN=Rosanna Villani:MAILTO:rosanna.villani@bresciapaghe.it
RRULE:FREQ=YEARLY;BYMONTH=12;BYDAY=25;UNTIL=20281225T000000Z
DTSTART;TZID=Europe/Rome;VALUE=DATE:20261225
DTEND;TZID=Europe/Rome;VALUE=DATE:20261226
X-ALT-DESC;FMTTYPE=TEXT/HTML:<p>Natale</p>\n
CATEGORIES:Festività
URL;VALUE=URI:https://cephr.it/eventi/natale/?mc_id=60
METHOD:PUBLISH
END:VEVENT
END:VCALENDAR