BEGIN:VCALENDAR
VERSION:2.0
PRODID:spatie/icalendar-generator
DESCRIPTION:Eventi da CEP HUMAN RESOURCES
X-WR-CALDESC:Eventi da CEP HUMAN RESOURCES
REFRESH-INTERVAL;VALUE=DURATION:PT1440M
X-PUBLISHED-TTL:PT1440M
BEGIN:VTIMEZONE
TZID:Europe/Rome
BEGIN:DAYLIGHT
DTSTART:20240331T020000Z
TZOFFSETFROM:+0100
TZOFFSETTO:+0200
END:DAYLIGHT
BEGIN:STANDARD
DTSTART:20241027T030000Z
TZOFFSETFROM:+0200
TZOFFSETTO:+0100
END:STANDARD
BEGIN:DAYLIGHT
DTSTART:20250330T020000Z
TZOFFSETFROM:+0100
TZOFFSETTO:+0200
END:DAYLIGHT
END:VTIMEZONE
BEGIN:VTIMEZONE
TZID:UTC
BEGIN:STANDARD
DTSTART:20250725T224330Z
TZOFFSETFROM:+0000
TZOFFSETTO:+0000
END:STANDARD
END:VTIMEZONE
BEGIN:VEVENT
UID:53-28
DTSTAMP:20260421T224330Z
SUMMARY:Immacolata Concezione
LOCATION:
ORGANIZER;CN=Rosanna Villani:MAILTO:rosanna.villani@bresciapaghe.it
RRULE:FREQ=YEARLY;BYMONTH=12;BYDAY=08;UNTIL=20281208T000000Z
DTSTART;TZID=Europe/Rome;VALUE=DATE:20241208
DTEND;TZID=Europe/Rome;VALUE=DATE:20241209
X-ALT-DESC;FMTTYPE=TEXT/HTML:<p>Immacolata Concezione</p>\n
CATEGORIES:Festività
URL;VALUE=URI:https://cephr.it/eventi/immacolata-concezione/?mc_id=53
METHOD:PUBLISH
END:VEVENT
END:VCALENDAR