BEGIN:VCALENDAR
VERSION:2.0
PRODID:spatie/icalendar-generator
DESCRIPTION:Eventi da CEP HUMAN RESOURCES
X-WR-CALDESC:Eventi da CEP HUMAN RESOURCES
REFRESH-INTERVAL;VALUE=DURATION:PT1440M
X-PUBLISHED-TTL:PT1440M
BEGIN:VTIMEZONE
TZID:Europe/Rome
BEGIN:DAYLIGHT
DTSTART:20260329T020000Z
TZOFFSETFROM:+0100
TZOFFSETTO:+0200
END:DAYLIGHT
BEGIN:STANDARD
DTSTART:20261025T030000Z
TZOFFSETFROM:+0200
TZOFFSETTO:+0100
END:STANDARD
END:VTIMEZONE
BEGIN:VTIMEZONE
TZID:UTC
BEGIN:STANDARD
DTSTART:20250726T083331Z
TZOFFSETFROM:+0000
TZOFFSETTO:+0000
END:STANDARD
END:VTIMEZONE
BEGIN:VEVENT
UID:407-257
DTSTAMP:20260422T083331Z
SUMMARY:Denuncia Uniemens
LOCATION:
ORGANIZER;CN=Rosanna Villani:MAILTO:rosanna.villani@bresciapaghe.it
DTSTART;TZID=Europe/Rome;VALUE=DATE:20260831
DTEND;TZID=Europe/Rome;VALUE=DATE:20260901
X-ALT-DESC;FMTTYPE=TEXT/HTML:<p>Denuncia telematica delle retribuzioni e de
 i contributi (INPS - ex INPDAP - ex ENPALS - ex DMAG) di luglio 2026</p>\n
CATEGORIES:Scadenze
URL;VALUE=URI:https://cephr.it/eventi/denuncia-uniemens-18/
METHOD:PUBLISH
END:VEVENT
END:VCALENDAR