BEGIN:VCALENDAR
VERSION:2.0
PRODID:spatie/icalendar-generator
DESCRIPTION:Eventi da CEP HUMAN RESOURCES
X-WR-CALDESC:Eventi da CEP HUMAN RESOURCES
REFRESH-INTERVAL;VALUE=DURATION:PT1440M
X-PUBLISHED-TTL:PT1440M
BEGIN:VTIMEZONE
TZID:Europe/Rome
BEGIN:STANDARD
DTSTART:20261025T030000Z
TZOFFSETFROM:+0200
TZOFFSETTO:+0100
END:STANDARD
BEGIN:DAYLIGHT
DTSTART:20270328T020000Z
TZOFFSETFROM:+0100
TZOFFSETTO:+0200
END:DAYLIGHT
END:VTIMEZONE
BEGIN:VTIMEZONE
TZID:UTC
BEGIN:STANDARD
DTSTART:20250725T230734Z
TZOFFSETFROM:+0000
TZOFFSETTO:+0000
END:STANDARD
END:VTIMEZONE
BEGIN:VEVENT
UID:360-286
DTSTAMP:20260421T230734Z
SUMMARY:Denuncia Uniemens
LOCATION:
ORGANIZER;CN=Rosanna Villani:MAILTO:rosanna.villani@bresciapaghe.it
DTSTART;TZID=Europe/Rome;VALUE=DATE:20261231
DTEND;TZID=Europe/Rome;VALUE=DATE:20270101
X-ALT-DESC;FMTTYPE=TEXT/HTML:<p>Denuncia telematica delle retribuzioni e de
 i contributi (INPS - ex INPDAP - ex ENPALS - ex DMAG) di novembre 2026</p>
 \n
CATEGORIES:Scadenze
URL;VALUE=URI:https://cephr.it/eventi/denuncia-uniemens-21/
METHOD:PUBLISH
END:VEVENT
END:VCALENDAR