BEGIN:VCALENDAR
VERSION:2.0
PRODID:spatie/icalendar-generator
DESCRIPTION:Eventi da CEP HUMAN RESOURCES
X-WR-CALDESC:Eventi da CEP HUMAN RESOURCES
REFRESH-INTERVAL;VALUE=DURATION:PT1440M
X-PUBLISHED-TTL:PT1440M
BEGIN:VTIMEZONE
TZID:Europe/Rome
BEGIN:STANDARD
DTSTART:20241027T030000Z
TZOFFSETFROM:+0200
TZOFFSETTO:+0100
END:STANDARD
BEGIN:DAYLIGHT
DTSTART:20250330T020000Z
TZOFFSETFROM:+0100
TZOFFSETTO:+0200
END:DAYLIGHT
BEGIN:STANDARD
DTSTART:20251026T030000Z
TZOFFSETFROM:+0200
TZOFFSETTO:+0100
END:STANDARD
END:VTIMEZONE
BEGIN:VTIMEZONE
TZID:UTC
BEGIN:STANDARD
DTSTART:20250725T232014Z
TZOFFSETFROM:+0000
TZOFFSETTO:+0000
END:STANDARD
END:VTIMEZONE
BEGIN:VEVENT
UID:34-23
DTSTAMP:20260421T232014Z
SUMMARY:Festa della Liberazione
LOCATION:
ORGANIZER;CN=Rosanna Villani:MAILTO:rosanna.villani@bresciapaghe.it
RRULE:FREQ=YEARLY;BYMONTH=04;BYDAY=25;UNTIL=20280425T000000Z
DTSTART;TZID=Europe/Rome;VALUE=DATE:20250425
DTEND;TZID=Europe/Rome;VALUE=DATE:20250426
X-ALT-DESC;FMTTYPE=TEXT/HTML:<p>Festa della Liberazione</p>\n
CATEGORIES:Festività
URL;VALUE=URI:https://cephr.it/eventi/festa-della-liberazione/?mc_id=34
METHOD:PUBLISH
END:VEVENT
END:VCALENDAR