BEGIN:VCALENDAR
VERSION:2.0
PRODID:spatie/icalendar-generator
DESCRIPTION:Eventi da CEP HUMAN RESOURCES
X-WR-CALDESC:Eventi da CEP HUMAN RESOURCES
REFRESH-INTERVAL;VALUE=DURATION:PT1440M
X-PUBLISHED-TTL:PT1440M
BEGIN:VTIMEZONE
TZID:Europe/Rome
BEGIN:STANDARD
DTSTART:20241027T030000Z
TZOFFSETFROM:+0200
TZOFFSETTO:+0100
END:STANDARD
BEGIN:DAYLIGHT
DTSTART:20250330T020000Z
TZOFFSETFROM:+0100
TZOFFSETTO:+0200
END:DAYLIGHT
END:VTIMEZONE
BEGIN:VTIMEZONE
TZID:UTC
BEGIN:STANDARD
DTSTART:20250725T214809Z
TZOFFSETFROM:+0000
TZOFFSETTO:+0000
END:STANDARD
END:VTIMEZONE
BEGIN:VEVENT
UID:232-180
DTSTAMP:20260421T214809Z
SUMMARY:Evento Conflavoro
LOCATION:Castel Mella Via Cortivazzo\, 13/B  Castel Mella BS 25030
ORGANIZER;CN=Rosanna Villani:MAILTO:rosanna.villani@bresciapaghe.it
DTSTART;TZID=Europe/Rome:20250219T090000
DTEND;TZID=Europe/Rome:20250219T130000
X-ALT-DESC;FMTTYPE=TEXT/HTML:<p>COME CAMBIA IL MONDO DEL LAVORO<br />\nLa c
 ertificazione unica 2025: dalla teoria alla pratica</p>\n
CATEGORIES:Eventi Cep
URL;VALUE=URI:https://cephr.it/eventi/evento-conflavoro/
METHOD:PUBLISH
END:VEVENT
END:VCALENDAR